BEGIN:VCALENDAR
VERSION:2.0
PRODID:-//wp-events-plugin.com//7.2.3.1//EN
TZID:Europe/Berlin
X-WR-TIMEZONE:Europe/Berlin
BEGIN:VEVENT
UID:5@gaggenau-fuer-demokratie.de
DTSTART;TZID=Europe/Berlin:20260331T190000
DTEND;TZID=Europe/Berlin:20260331T210000
DTSTAMP:20260309T083611Z
URL:https://gaggenau-fuer-demokratie.de/events/%e2%9c%8b-gaggenau-fuer-dem
 okratie-elftes-aktiventreffen/
SUMMARY:✋ - GAGGENAU FÜR DEMOKRATIE – Elftes Aktiventreffen
DESCRIPTION:\n\n\nDas elfte Aktiventreffen findet am 31.03.2026 um 19:00 Uh
 r im Pfarrsaal St. Josef der katholischen Kirche Gaggenau statt. \nBitte 
 die Uhrzeit beachten! Wegen Termin-Überschneidungen treffen wir uns diese
 s Mal später als bisher gewohnt.\nSelbstverständlich sind neue Unterstü
 tzende herzlich willkommen und wir freuen uns über alle Menschen\, die mi
 tarbeiten möchten.\n\n\n\n\n\n\n
ATTACH;FMTTYPE=image/jpeg:https://gaggenau-fuer-demokratie.de/wp-content/u
 ploads/2024/04/SWW_20240404-_RGR3_unbenannte-Fotosession_013941-scaled.jpg
CATEGORIES:Eigenveranstaltung
END:VEVENT
BEGIN:VTIMEZONE
TZID:Europe/Berlin
X-LIC-LOCATION:Europe/Berlin
BEGIN:DAYLIGHT
DTSTART:20260329T030000
TZOFFSETFROM:+0100
TZOFFSETTO:+0200
TZNAME:CEST
END:DAYLIGHT
END:VTIMEZONE
END:VCALENDAR