BEGIN:VCALENDAR
VERSION:2.0
PRODID:-//wp-events-plugin.com//7.2.3.1//EN
TZID:Europe/Berlin
X-WR-TIMEZONE:Europe/Berlin
BEGIN:VEVENT
UID:9@gaggenau-fuer-demokratie.de
DTSTART;TZID=Europe/Berlin:20260602T180000
DTEND;TZID=Europe/Berlin:20260602T200000
DTSTAMP:20260422T073043Z
URL:https://gaggenau-fuer-demokratie.de/events/%e2%9c%8b-gaggenau-fuer-dem
 okratie-zwoelftes-aktiventreffen/
SUMMARY:✋ - GAGGENAU FÜR DEMOKRATIE – Zwölftes Aktiventreffen
DESCRIPTION:\n\n\nDas zwölfte Aktiventreffen findet am 02.06.2026 um 18:00
  Uhr im Pfarrsaal St. Josef der katholischen Kirche Gaggenau statt. \nSel
 bstverständlich sind neue Unterstützende herzlich willkommen und wir fre
 uen uns über alle Menschen\, die mitarbeiten möchten.\n\n\n\n\n\n\n
ATTACH;FMTTYPE=image/jpeg:https://gaggenau-fuer-demokratie.de/wp-content/u
 ploads/2024/04/SWW_20240404-_RGR3_unbenannte-Fotosession_013941-scaled.jpg
CATEGORIES:Eigenveranstaltung
END:VEVENT
BEGIN:VTIMEZONE
TZID:Europe/Berlin
X-LIC-LOCATION:Europe/Berlin
BEGIN:DAYLIGHT
DTSTART:20260329T030000
TZOFFSETFROM:+0100
TZOFFSETTO:+0200
TZNAME:CEST
END:DAYLIGHT
END:VTIMEZONE
END:VCALENDAR