BEGIN:VCALENDAR
VERSION:2.0
PRODID:-//wp-events-plugin.com//7.2.3.1//EN
TZID:Europe/Berlin
X-WR-TIMEZONE:Europe/Berlin
BEGIN:VEVENT
UID:6@gaggenau-fuer-demokratie.de
DTSTART;TZID=Europe/Berlin:20260410T190000
DTEND;TZID=Europe/Berlin:20260410T210000
DTSTAMP:20260309T084607Z
URL:https://gaggenau-fuer-demokratie.de/events/soroptimist-club-bad-herren
 alb-gernsbach-benefizkonzert/
SUMMARY:SOROPTIMIST Club Bad Herrenalb/Gernsbach – Benefizkonzert
DESCRIPTION:\n\n\nSOROPTIMIST BENEFIZKONZERT zugunsten des Frauen- und Kind
 erschutzhauses Baden-Baden / Landkreis Rastatt.\n10. April 2026 - Jahnhall
 e Gaggenau - Eintritt 25 € (10 € Schüler / Studenten)\n\n\n\n\n\n\n
ATTACH;FMTTYPE=image/jpeg:https://gaggenau-fuer-demokratie.de/wp-content/u
 ploads/2026/03/SI-Benefizkonzert-rotated.jpeg
CATEGORIES:Unterstützenden-Veranstaltung
END:VEVENT
BEGIN:VTIMEZONE
TZID:Europe/Berlin
X-LIC-LOCATION:Europe/Berlin
BEGIN:DAYLIGHT
DTSTART:20260329T030000
TZOFFSETFROM:+0100
TZOFFSETTO:+0200
TZNAME:CEST
END:DAYLIGHT
END:VTIMEZONE
END:VCALENDAR